Workbook

Sheet Synthèse 10 ans
A1: Fiscalité automobile UE 2026 — Coût total sur 10 ans par véhicule et par pays
A2: Formule : Frais d'immatriculation + taxe à l'achat + (taxe annuelle × 10). Vignette autoroute non incluse (conforme simulateur v3). Résident de la capitale. Barèmes 2026 officiels. Source : Caroom.fr / simulateur-taxes-europe-v3
A4: Véhicule | B4: Segment | C4: Prix TTC | D4: France | E4: Allemagne | F4: Autriche | G4: Belgique | H4: Bulgarie | I4: Chypre | J4: Croatie | K4: Danemark | L4: Espagne | M4: Estonie | N4: Finlande | O4: Grèce | P4: Hongrie | Q4: Irlande | R4: Italie | S4: Lettonie | T4: Lituanie | U4: Luxembourg | V4: Malte | W4: Pays-Bas | X4: Pologne | Y4: Portugal | Z4: Roumanie | AA4: Rép. tchèque | AB4: Slovaquie | AC4: Slovénie | AD4: Suède
A5: Dacia Sandero TCe 100 | B5: Citadine | C5: 16050 | D5: ='Détail Dacia Sandero TCe 100'!E5 -> 719 | E5: ='Détail Dacia Sandero TCe 100'!E6 -> 780 | F5: ='Détail Dacia Sandero TCe 100'!E7 -> 4139 | G5: ='Détail Dacia Sandero TCe 100'!E8 -> 3610 | H5: ='Détail Dacia Sandero TCe 100'!E9 -> 1790 | I5: ='Détail Dacia Sandero TCe 100'!E10 -> 805 | J5: ='Détail Dacia Sandero TCe 100'!E11 -> 1471 | K5: ='Détail Dacia Sandero TCe 100'!E12 -> 15383 | L5: ='Détail Dacia Sandero TCe 100'!E13 -> 1095 | M5: ='Détail Dacia Sandero TCe 100'!E14 -> 1413 | N5: ='Détail Dacia Sandero TCe 100'!E15 -> 2394 | O5: ='Détail Dacia Sandero TCe 100'!E16 -> 1344 | P5: ='Détail Dacia Sandero TCe 100'!E17 -> 978 | Q5: ='Détail Dacia Sandero TCe 100'!E18 -> 6174 | R5: ='Détail Dacia Sandero TCe 100'!E19 -> 2303 | S5: ='Détail Dacia Sandero TCe 100'!E20 -> 1121 | T5: ='Détail Dacia Sandero TCe 100'!E21 -> 589 | U5: ='Détail Dacia Sandero TCe 100'!E22 -> 710 | V5: ='Détail Dacia Sandero TCe 100'!E23 -> 2914 | W5: ='Détail Dacia Sandero TCe 100'!E24 -> 11960 | X5: ='Détail Dacia Sandero TCe 100'!E25 -> 452 | Y5: ='Détail Dacia Sandero TCe 100'!E26 -> 2040 | Z5: ='Détail Dacia Sandero TCe 100'!E27 -> 178 | AA5: ='Détail Dacia Sandero TCe 100'!E28 -> 33 | AB5: ='Détail Dacia Sandero TCe 100'!E29 -> 79 | AC5: ='Détail Dacia Sandero TCe 100'!E30 -> 832 | AD5: ='Détail Dacia Sandero TCe 100'!E31 -> 3576
A6: Peugeot 208 PureTech 100 | B6: Citadine | C6: 17950 | D6: ='Détail Peugeot 208 PureTech 100'!E5 -> 589 | E6: ='Détail Peugeot 208 PureTech 100'!E6 -> 690 | F6: ='Détail Peugeot 208 PureTech 100'!E7 -> 3538 | G6: ='Détail Peugeot 208 PureTech 100'!E8 -> 2569 | H6: ='Détail Peugeot 208 PureTech 100'!E9 -> 1838 | I6: ='Détail Peugeot 208 PureTech 100'!E10 -> 565 | J6: ='Détail Peugeot 208 PureTech 100'!E11 -> 1472 | K6: ='Détail Peugeot 208 PureTech 100'!E12 -> 16551 | L6: ='Détail Peugeot 208 PureTech 100'!E13 -> 460 | M6: ='Détail Peugeot 208 PureTech 100'!E14 -> 1290 | N6: ='Détail Peugeot 208 PureTech 100'!E15 -> 2337 | O6: ='Détail Peugeot 208 PureTech 100'!E16 -> 1433 | P6: ='Détail Peugeot 208 PureTech 100'!E17 -> 978 | Q6: ='Détail Peugeot 208 PureTech 100'!E18 -> 5925 | R6: ='Détail Peugeot 208 PureTech 100'!E19 -> 2303 | S6: ='Détail Peugeot 208 PureTech 100'!E20 -> 1063 | T6: ='Détail Peugeot 208 PureTech 100'!E21 -> 519 | U6: ='Détail Peugeot 208 PureTech 100'!E22 -> 610 | V6: ='Détail Peugeot 208 PureTech 100'!E23 -> 2506 | W6: ='Détail Peugeot 208 PureTech 100'!E24 -> 11020 | X6: ='Détail Peugeot 208 PureTech 100'!E25 -> 501 | Y6: ='Détail Peugeot 208 PureTech 100'!E26 -> 1750 | Z6: ='Détail Peugeot 208 PureTech 100'!E27 -> 178 | AA6: ='Détail Peugeot 208 PureTech 100'!E28 -> 33 | AB6: ='Détail Peugeot 208 PureTech 100'!E29 -> 79 | AC6: ='Détail Peugeot 208 PureTech 100'!E30 -> 805 | AD6: ='Détail Peugeot 208 PureTech 100'!E31 -> 3126
A7: Citroen C3 Aircross Turbo 100 | B7: SUV familial | C7: 19990 | D7: ='Détail Citroen C3 Aircross Turb'!E5 -> 1745 | E7: ='Détail Citroen C3 Aircross Turb'!E6 -> 1090 | F7: ='Détail Citroen C3 Aircross Turb'!E7 -> 5773 | G7: ='Détail Citroen C3 Aircross Turb'!E8 -> 4270 | H7: ='Détail Citroen C3 Aircross Turb'!E9 -> 1889 | I7: ='Détail Citroen C3 Aircross Turb'!E10 -> 1885 | J7: ='Détail Citroen C3 Aircross Turb'!E11 -> 2391 | K7: ='Détail Citroen C3 Aircross Turb'!E12 -> 19899 | L7: ='Détail Citroen C3 Aircross Turb'!E13 -> 1251 | M7: ='Détail Citroen C3 Aircross Turb'!E14 -> 1653 | N7: ='Détail Citroen C3 Aircross Turb'!E15 -> 3159 | O7: ='Détail Citroen C3 Aircross Turb'!E16 -> 2773 | P7: ='Détail Citroen C3 Aircross Turb'!E17 -> 978 | Q7: ='Détail Citroen C3 Aircross Turb'!E18 -> 8053 | R7: ='Détail Citroen C3 Aircross Turb'!E19 -> 2303 | S7: ='Détail Citroen C3 Aircross Turb'!E20 -> 1397 | T7: ='Détail Citroen C3 Aircross Turb'!E21 -> 1029 | U7: ='Détail Citroen C3 Aircross Turb'!E22 -> 850 | V7: ='Détail Citroen C3 Aircross Turb'!E23 -> 3589 | W7: ='Détail Citroen C3 Aircross Turb'!E24 -> 14940 | X7: ='Détail Citroen C3 Aircross Turb'!E25 -> 553 | Y7: ='Détail Citroen C3 Aircross Turb'!E26 -> 2350 | Z7: ='Détail Citroen C3 Aircross Turb'!E27 -> 178 | AA7: ='Détail Citroen C3 Aircross Turb'!E28 -> 33 | AB7: ='Détail Citroen C3 Aircross Turb'!E29 -> 79 | AC7: ='Détail Citroen C3 Aircross Turb'!E30 -> 1068 | AD7: ='Détail Citroen C3 Aircross Turb'!E31 -> 4570
A8: Nissan Qashqai MHEV 140 | B8: SUV | C8: 35000 | D8: ='Détail Nissan Qashqai MHEV 140'!E5 -> 3415 | E8: ='Détail Nissan Qashqai MHEV 140'!E6 -> 1380 | F8: ='Détail Nissan Qashqai MHEV 140'!E7 -> 10802 | G8: ='Détail Nissan Qashqai MHEV 140'!E8 -> 4965 | H8: ='Détail Nissan Qashqai MHEV 140'!E9 -> 1964 | I8: ='Détail Nissan Qashqai MHEV 140'!E10 -> 2785 | J8: ='Détail Nissan Qashqai MHEV 140'!E11 -> 5160 | K8: ='Détail Nissan Qashqai MHEV 140'!E12 -> 40630 | L8: ='Détail Nissan Qashqai MHEV 140'!E13 -> 2165 | M8: ='Détail Nissan Qashqai MHEV 140'!E14 -> 1849 | N8: ='Détail Nissan Qashqai MHEV 140'!E15 -> 5280 | O8: ='Détail Nissan Qashqai MHEV 140'!E16 -> 3711 | P8: ='Détail Nissan Qashqai MHEV 140'!E17 -> 1245 | Q8: ='Détail Nissan Qashqai MHEV 140'!E18 -> 14176 | R8: ='Détail Nissan Qashqai MHEV 140'!E19 -> 3013 | S8: ='Détail Nissan Qashqai MHEV 140'!E20 -> 1587 | T8: ='Détail Nissan Qashqai MHEV 140'!E21 -> 1369 | U8: ='Détail Nissan Qashqai MHEV 140'!E22 -> 1090 | V8: ='Détail Nissan Qashqai MHEV 140'!E23 -> 4034 | W8: ='Détail Nissan Qashqai MHEV 140'!E24 -> 17310 | X8: ='Détail Nissan Qashqai MHEV 140'!E25 -> 489 | Y8: ='Détail Nissan Qashqai MHEV 140'!E26 -> 1650 | Z8: ='Détail Nissan Qashqai MHEV 140'!E27 -> 178 | AA8: ='Détail Nissan Qashqai MHEV 140'!E28 -> 33 | AB8: ='Détail Nissan Qashqai MHEV 140'!E29 -> 371 | AC8: ='Détail Nissan Qashqai MHEV 140'!E30 -> 1688 | AD8: ='Détail Nissan Qashqai MHEV 140'!E31 -> 5430
A9: VW T-Roc eTSI 150 | B9: SUV urbain | C9: 42500 | D9: ='Détail VW T-Roc eTSI 150'!E5 -> 1384 | E9: ='Détail VW T-Roc eTSI 150'!E6 -> 1020 | F9: ='Détail VW T-Roc eTSI 150'!E7 -> 9551 | G9: ='Détail VW T-Roc eTSI 150'!E8 -> 4120 | H9: ='Détail VW T-Roc eTSI 150'!E9 -> 2152 | I9: ='Détail VW T-Roc eTSI 150'!E10 -> 1345 | J9: ='Détail VW T-Roc eTSI 150'!E11 -> 3962 | K9: ='Détail VW T-Roc eTSI 150'!E12 -> 50478 | L9: ='Détail VW T-Roc eTSI 150'!E13 -> 2462 | M9: ='Détail VW T-Roc eTSI 150'!E14 -> 1543 | N9: ='Détail VW T-Roc eTSI 150'!E15 -> 4720 | O9: ='Détail VW T-Roc eTSI 150'!E16 -> 2679 | P9: ='Détail VW T-Roc eTSI 150'!E17 -> 1316 | Q9: ='Détail VW T-Roc eTSI 150'!E18 -> 12714 | R9: ='Détail VW T-Roc eTSI 150'!E19 -> 3299 | S9: ='Détail VW T-Roc eTSI 150'!E20 -> 1259 | T9: ='Détail VW T-Roc eTSI 150'!E21 -> 799 | U9: ='Détail VW T-Roc eTSI 150'!E22 -> 740 | V9: ='Détail VW T-Roc eTSI 150'!E23 -> 4118 | W9: ='Détail VW T-Roc eTSI 150'!E24 -> 14360 | X9: ='Détail VW T-Roc eTSI 150'!E25 -> 586 | Y9: ='Détail VW T-Roc eTSI 150'!E26 -> 1518 | Z9: ='Détail VW T-Roc eTSI 150'!E27 -> 178 | AA9: ='Détail VW T-Roc eTSI 150'!E28 -> 33 | AB9: ='Détail VW T-Roc eTSI 150'!E29 -> 462 | AC9: ='Détail VW T-Roc eTSI 150'!E30 -> 1422 | AD9: ='Détail VW T-Roc eTSI 150'!E31 -> 4054
A10: Peugeot 308 SW BlueHDi 130 | B10: Break | C10: 41350 | D10: ='Détail Peugeot 308 SW BlueHDi 1'!E5 -> 1995 | E10: ='Détail Peugeot 308 SW BlueHDi 1'!E6 -> 2160 | F10: ='Détail Peugeot 308 SW BlueHDi 1'!E7 -> 8429 | G10: ='Détail Peugeot 308 SW BlueHDi 1'!E8 -> 5742 | H10: ='Détail Peugeot 308 SW BlueHDi 1'!E9 -> 3123 | I10: ='Détail Peugeot 308 SW BlueHDi 1'!E10 -> 1835 | J10: ='Détail Peugeot 308 SW BlueHDi 1'!E11 -> 3888 | K10: ='Détail Peugeot 308 SW BlueHDi 1'!E12 -> 50059 | L10: ='Détail Peugeot 308 SW BlueHDi 1'!E13 -> 2417 | M10: ='Détail Peugeot 308 SW BlueHDi 1'!E14 -> 3469 | N10: ='Détail Peugeot 308 SW BlueHDi 1'!E15 -> 6617 | O10: ='Détail Peugeot 308 SW BlueHDi 1'!E16 -> 5619 | P10: ='Détail Peugeot 308 SW BlueHDi 1'!E17 -> 1260 | Q10: ='Détail Peugeot 308 SW BlueHDi 1'!E18 -> 12460 | R10: ='Détail Peugeot 308 SW BlueHDi 1'!E19 -> 4213 | S10: ='Détail Peugeot 308 SW BlueHDi 1'!E20 -> 1282 | T10: ='Détail Peugeot 308 SW BlueHDi 1'!E21 -> 883 | U10: ='Détail Peugeot 308 SW BlueHDi 1'!E22 -> 1090 | V10: ='Détail Peugeot 308 SW BlueHDi 1'!E23 -> 5835 | W10: ='Détail Peugeot 308 SW BlueHDi 1'!E24 -> 32172 | X10: ='Détail Peugeot 308 SW BlueHDi 1'!E25 -> 1105 | Y10: ='Détail Peugeot 308 SW BlueHDi 1'!E26 -> 2959 | Z10: ='Détail Peugeot 308 SW BlueHDi 1'!E27 -> 178 | AA10: ='Détail Peugeot 308 SW BlueHDi 1'!E28 -> 33 | AB10: ='Détail Peugeot 308 SW BlueHDi 1'!E29 -> 279 | AC10: ='Détail Peugeot 308 SW BlueHDi 1'!E30 -> 1625 | AD10: ='Détail Peugeot 308 SW BlueHDi 1'!E31 -> 5901
A11: Peugeot 5008 PHEV 225 | B11: SUV familial 7pl | C11: 46990 | D11: ='Détail Peugeot 5008 PHEV 225'!E5 -> 6666 | E11: ='Détail Peugeot 5008 PHEV 225'!E6 -> 350 | F11: ='Détail Peugeot 5008 PHEV 225'!E7 -> 9790 | G11: ='Détail Peugeot 5008 PHEV 225'!E8 -> 5635 | H11: ='Détail Peugeot 5008 PHEV 225'!E9 -> 2514 | I11: ='Détail Peugeot 5008 PHEV 225'!E10 -> 125 | J11: ='Détail Peugeot 5008 PHEV 225'!E11 -> 3604 | K11: ='Détail Peugeot 5008 PHEV 225'!E12 -> 53697 | L11: ='Détail Peugeot 5008 PHEV 225'!E13 -> 780 | M11: ='Détail Peugeot 5008 PHEV 225'!E14 -> 823 | N11: ='Détail Peugeot 5008 PHEV 225'!E15 -> 2818 | O11: ='Détail Peugeot 5008 PHEV 225'!E16 -> 2241 | P11: ='Détail Peugeot 5008 PHEV 225'!E17 -> 1864 | Q11: ='Détail Peugeot 5008 PHEV 225'!E18 -> 6469 | R11: ='Détail Peugeot 5008 PHEV 225'!E19 -> 5555 | S11: ='Détail Peugeot 5008 PHEV 225'!E20 -> 1015 | T11: ='Détail Peugeot 5008 PHEV 225'!E21 -> 519 | U11: ='Détail Peugeot 5008 PHEV 225'!E22 -> 350 | V11: ='Détail Peugeot 5008 PHEV 225'!E23 -> 4096 | W11: ='Détail Peugeot 5008 PHEV 225'!E24 -> 10550 | X11: ='Détail Peugeot 5008 PHEV 225'!E25 -> 644 | Y11: ='Détail Peugeot 5008 PHEV 225'!E26 -> 1222 | Z11: ='Détail Peugeot 5008 PHEV 225'!E27 -> 178 | AA11: ='Détail Peugeot 5008 PHEV 225'!E28 -> 33 | AB11: ='Détail Peugeot 5008 PHEV 225'!E29 -> 1342 | AC11: ='Détail Peugeot 5008 PHEV 225'!E30 -> 1025 | AD11: ='Détail Peugeot 5008 PHEV 225'!E31 -> 296
A12: VW Golf GTI 265 | B12: Sportive | C12: 50700 | D12: ='Détail VW Golf GTI 265'!E5 -> 12229 | E12: ='Détail VW Golf GTI 265'!E6 -> 1970 | F12: ='Détail VW Golf GTI 265'!E7 -> 23780 | G12: ='Détail VW Golf GTI 265'!E8 -> 8755 | H12: ='Détail VW Golf GTI 265'!E9 -> 3857 | I12: ='Détail VW Golf GTI 265'!E10 -> 4705 | J12: ='Détail VW Golf GTI 265'!E11 -> 11615 | K12: ='Détail VW Golf GTI 265'!E12 -> 67971 | L12: ='Détail VW Golf GTI 265'!E13 -> 5649 | M12: ='Détail VW Golf GTI 265'!E14 -> 2193 | N12: ='Détail VW Golf GTI 265'!E15 -> 9578 | O12: ='Détail VW Golf GTI 265'!E16 -> 12101 | P12: ='Détail VW Golf GTI 265'!E17 -> 2250 | Q12: ='Détail VW Golf GTI 265'!E18 -> 23930 | R12: ='Détail VW Golf GTI 265'!E19 -> 10305 | S12: ='Détail VW Golf GTI 265'!E20 -> 2001 | T12: ='Détail VW Golf GTI 265'!E21 -> 1819 | U12: ='Détail VW Golf GTI 265'!E22 -> 1510 | V12: ='Détail VW Golf GTI 265'!E23 -> 8486 | W12: ='Détail VW Golf GTI 265'!E24 -> 21730 | X12: ='Détail VW Golf GTI 265'!E25 -> 1347 | Y12: ='Détail VW Golf GTI 265'!E26 -> 4491 | Z12: ='Détail VW Golf GTI 265'!E27 -> 418 | AA12: ='Détail VW Golf GTI 265'!E28 -> 33 | AB12: ='Détail VW Golf GTI 265'!E29 -> 1942 | AC12: ='Détail VW Golf GTI 265'!E30 -> 6697 | AD12: ='Détail VW Golf GTI 265'!E31 -> 6978
A13: BMW X5 xDrive 30d 298 | B13: SUV premium | C13: 92350 | D13: ='Détail BMW X5 xDrive 30d 298'!E5 -> 81255 | E13: ='Détail BMW X5 xDrive 30d 298'!E6 -> 5280 | F13: ='Détail BMW X5 xDrive 30d 298'!E7 -> 39424 | G13: ='Détail BMW X5 xDrive 30d 298'!E8 -> 13354 | H13: ='Détail BMW X5 xDrive 30d 298'!E9 -> 3898 | I13: ='Détail BMW X5 xDrive 30d 298'!E10 -> 9880 | J13: ='Détail BMW X5 xDrive 30d 298'!E11 -> 29129 | K13: ='Détail BMW X5 xDrive 30d 298'!E12 -> 145078 | L13: ='Détail BMW X5 xDrive 30d 298'!E13 -> 9633 | M13: ='Détail BMW X5 xDrive 30d 298'!E14 -> 5683 | N13: ='Détail BMW X5 xDrive 30d 298'!E15 -> 29691 | O13: ='Détail BMW X5 xDrive 30d 298'!E16 -> 18879 | P13: ='Détail BMW X5 xDrive 30d 298'!E17 -> 2498 | Q13: ='Détail BMW X5 xDrive 30d 298'!E18 -> 45855 | R13: ='Détail BMW X5 xDrive 30d 298'!E19 -> 17458 | S13: ='Détail BMW X5 xDrive 30d 298'!E20 -> 2622 | T13: ='Détail BMW X5 xDrive 30d 298'!E21 -> 2333 | U13: ='Détail BMW X5 xDrive 30d 298'!E22 -> 3110 | V13: ='Détail BMW X5 xDrive 30d 298'!E23 -> 12151 | W13: ='Détail BMW X5 xDrive 30d 298'!E24 -> 57072 | X13: ='Détail BMW X5 xDrive 30d 298'!E25 -> 7194 | Y13: ='Détail BMW X5 xDrive 30d 298'!E26 -> 5440 | Z13: ='Détail BMW X5 xDrive 30d 298'!E27 -> 1218 | AA13: ='Détail BMW X5 xDrive 30d 298'!E28 -> 33 | AB13: ='Détail BMW X5 xDrive 30d 298'!E29 -> 2422 | AC13: ='Détail BMW X5 xDrive 30d 298'!E30 -> 19654 | AD13: ='Détail BMW X5 xDrive 30d 298'!E31 -> 11826
A14: Ford Mustang V8 GT 446 | B14: Muscle car | C14: 59800 | D14: ='Détail Ford Mustang V8 GT 446'!E5 -> 82083 | E14: ='Détail Ford Mustang V8 GT 446'!E6 -> 6810 | F14: ='Détail Ford Mustang V8 GT 446'!E7 -> 66139 | G14: ='Détail Ford Mustang V8 GT 446'!E8 -> 17180 | H14: ='Détail Ford Mustang V8 GT 446'!E9 -> 4584 | I14: ='Détail Ford Mustang V8 GT 446'!E10 -> 15685 | J14: ='Détail Ford Mustang V8 GT 446'!E11 -> 32973 | K14: ='Détail Ford Mustang V8 GT 446'!E12 -> 99719 | L14: ='Détail Ford Mustang V8 GT 446'!E13 -> 9480 | M14: ='Détail Ford Mustang V8 GT 446'!E14 -> 4341 | N14: ='Détail Ford Mustang V8 GT 446'!E15 -> 27257 | O14: ='Détail Ford Mustang V8 GT 446'!E16 -> 34126 | P14: ='Détail Ford Mustang V8 GT 446'!E17 -> 3646 | Q14: ='Détail Ford Mustang V8 GT 446'!E18 -> 36802 | R14: ='Détail Ford Mustang V8 GT 446'!E19 -> 44053 | S14: ='Détail Ford Mustang V8 GT 446'!E20 -> 3197 | T14: ='Détail Ford Mustang V8 GT 446'!E21 -> 5359 | U14: ='Détail Ford Mustang V8 GT 446'!E22 -> 3670 | V14: ='Détail Ford Mustang V8 GT 446'!E23 -> 29248 | W14: ='Détail Ford Mustang V8 GT 446'!E24 -> 50760 | X14: ='Détail Ford Mustang V8 GT 446'!E25 -> 9306 | Y14: ='Détail Ford Mustang V8 GT 446'!E26 -> 16744 | Z14: ='Détail Ford Mustang V8 GT 446'!E27 -> 1818 | AA14: ='Détail Ford Mustang V8 GT 446'!E28 -> 33 | AB14: ='Détail Ford Mustang V8 GT 446'!E29 -> 4602 | AC14: ='Détail Ford Mustang V8 GT 446'!E30 -> 33285 | AD14: ='Détail Ford Mustang V8 GT 446'!E31 -> 16630
A15: Porsche 911 GT3 RS 525 | B15: Supercar | C15: 253370 | D15: ='Détail Porsche 911 GT3 RS 525'!E5 -> 82979 | E15: ='Détail Porsche 911 GT3 RS 525'!E6 -> 8030 | F15: ='Détail Porsche 911 GT3 RS 525'!E7 -> 151390 | G15: ='Détail Porsche 911 GT3 RS 525'!E8 -> 20140 | H15: ='Détail Porsche 911 GT3 RS 525'!E9 -> 9423 | I15: ='Détail Porsche 911 GT3 RS 525'!E10 -> 18225 | J15: ='Détail Porsche 911 GT3 RS 525'!E11 -> 154937 | K15: ='Détail Porsche 911 GT3 RS 525'!E12 -> 407813 | L15: ='Détail Porsche 911 GT3 RS 525'!E13 -> 33273 | M15: ='Détail Porsche 911 GT3 RS 525'!E14 -> 5002 | N15: ='Détail Porsche 911 GT3 RS 525'!E15 -> 108161 | O15: ='Détail Porsche 911 GT3 RS 525'!E16 -> 117538 | P15: ='Détail Porsche 911 GT3 RS 525'!E17 -> 4252 | Q15: ='Détail Porsche 911 GT3 RS 525'!E18 -> 129870 | R15: ='Détail Porsche 911 GT3 RS 525'!E19 -> 58167 | S15: ='Détail Porsche 911 GT3 RS 525'!E20 -> 3305 | T15: ='Détail Porsche 911 GT3 RS 525'!E21 -> 6619 | U15: ='Détail Porsche 911 GT3 RS 525'!E22 -> 4140 | V15: ='Détail Porsche 911 GT3 RS 525'!E23 -> 53680 | W15: ='Détail Porsche 911 GT3 RS 525'!E24 -> 58670 | X15: ='Détail Porsche 911 GT3 RS 525'!E25 -> 39309 | Y15: ='Détail Porsche 911 GT3 RS 525'!E26 -> 17341 | Z15: ='Détail Porsche 911 GT3 RS 525'!E27 -> 1818 | AA15: ='Détail Porsche 911 GT3 RS 525'!E28 -> 33 | AB15: ='Détail Porsche 911 GT3 RS 525'!E29 -> 5762 | AC15: ='Détail Porsche 911 GT3 RS 525'!E30 -> 135933 | AD15: ='Détail Porsche 911 GT3 RS 525'!E31 -> 19726
A16: Tesla Model 3 Standard | B16: Berline VE | C16: 36990 | D16: ='Détail Tesla Model 3 Standard'!E5 -> 14 | E16: ='Détail Tesla Model 3 Standard'!E6 -> 30 | F16: ='Détail Tesla Model 3 Standard'!E7 -> 6170 | G16: ='Détail Tesla Model 3 Standard'!E8 -> 962 | H16: ='Détail Tesla Model 3 Standard'!E9 -> 77 | I16: ='Détail Tesla Model 3 Standard'!E10 -> 25 | J16: ='Détail Tesla Model 3 Standard'!E11 -> 0 | K16: ='Détail Tesla Model 3 Standard'!E12 -> 7943 | L16: ='Détail Tesla Model 3 Standard'!E13 -> 190 | M16: ='Détail Tesla Model 3 Standard'!E14 -> 1004 | N16: ='Détail Tesla Model 3 Standard'!E15 -> 2300 | O16: ='Détail Tesla Model 3 Standard'!E16 -> 87 | P16: ='Détail Tesla Model 3 Standard'!E17 -> 200 | Q16: ='Détail Tesla Model 3 Standard'!E18 -> 1256 | R16: ='Détail Tesla Model 3 Standard'!E19 -> 401 | S16: ='Détail Tesla Model 3 Standard'!E20 -> 0 | T16: ='Détail Tesla Model 3 Standard'!E21 -> 19 | U16: ='Détail Tesla Model 3 Standard'!E22 -> 350 | V16: ='Détail Tesla Model 3 Standard'!E23 -> 250 | W16: ='Détail Tesla Model 3 Standard'!E24 -> 6447 | X16: ='Détail Tesla Model 3 Standard'!E25 -> 37 | Y16: ='Détail Tesla Model 3 Standard'!E26 -> 100 | Z16: ='Détail Tesla Model 3 Standard'!E27 -> 98 | AA16: ='Détail Tesla Model 3 Standard'!E28 -> 33 | AB16: ='Détail Tesla Model 3 Standard'!E29 -> 62 | AC16: ='Détail Tesla Model 3 Standard'!E30 -> 65 | AD16: ='Détail Tesla Model 3 Standard'!E31 -> 396
A18: Légende : 🟩 plus économique 🟥 plus cher | Cellules orangées : formule approximée (BE, HR, MT) | Colonne rouge = France

Sheet Feuil1

Sheet Feuil2

Sheet Feuil3

Sheet Feuil4

Sheet Détail Dacia Sandero TCe 100
A1: Dacia Sandero TCe 100 Expression
A2: Segment : Citadine | Energie : ESSENCE Prix TTC : 16050 € | Prix HT : 13375 € | CO2 : 122 g/km | Cylindrée : 999 cm³ | Puissance : 74 kW (100 ch) | CV fiscaux : 5 | Poids : 1130 kg | MOM : 1205 kg | Longueur : 408 cm
A4: Pays | B4: Taxe achat (€) | C4: Taxe annuelle (€) | D4: Frais immatriculation (€) | E4: Total 10 ans (€) | F4: Vignette annuelle (€) | G4: Statut | H4: Source
A5: France | B5: 360 | C5: 0 | D5: 359 | E5: =B5+C5*10+D5 -> 719 | F5: 0 | G5: Validé | H5: Code des impositions sur biens et services, art. L. 421-1 a L. 421-46. Barème 2026 CO2 108-191 g, poids 1500 kg, plafond 80 000 €. service-public.fr/particuliers/vosdroits/F10542
A6: Allemagne | B6: 0 | C6: 75 | D6: 30 | E6: =B6+C6*10+D6 -> 780 | F6: 0 | G6: Validé | H6: Kraftfahrt-Bundesamt (Kfz-Steuer), BMF. Base : cylindree + CO2. bundesfinanzministerium.de
A7: Autriche | B7: 479 | C7: 346 | D7: 200 | E7: =B7+C7*10+D7 -> 4139 | F7: 107 | G7: Validé | H7: NoVA 2026, Finanzministerium. motorbezogene Versicherungssteuer (kW + CO2). bmf.gv.at
A8: Belgique | B8: 700 | C8: 288 | D8: 30 | E8: =B8+C8*10+D8 -> 3610 | F8: 0 | G8: Approx. | H8: Region flamande (TMC + taxe annuelle). Formule approximee - a verifier pour autres regions. vlaanderen.be
A9: Bulgarie | B9: 465 | C9: 130 | D9: 25 | E9: =B9+C9*10+D9 -> 1790 | F9: 45 | G9: Validé | H9: Taxe acquisition 3% prix HT + taxe annuelle selon puissance. nap.bg
A10: Chypre | B10: 20 | C10: 76 | D10: 25 | E10: =B10+C10*10+D10 -> 805 | F10: 0 | G10: Validé | H10: Surcharge immatriculation progressive CO2. mof.gov.cy
A11: Croatie | B11: 896 | C11: 56 | D11: 15 | E11: =B11+C11*10+D11 -> 1471 | F11: 0 | G11: Approx. | H11: PPMV (posebni porez na motorna vozila). Formule approximee. porezna-uprava.hr
A12: Danemark | B12: 13413 | C12: 179 | D12: 180 | E12: =B12+C12*10+D12 -> 15383 | F12: 0 | G12: Validé | H12: Registreringsafgift 2026 (25% puis 85% puis 150%) + tillægsafgift CO2. skat.dk
A13: Espagne | B13: 635 | C13: 33 | D13: 130 | E13: =B13+C13*10+D13 -> 1095 | F13: 0 | G13: Validé | H13: IEDMT (4,75% / 9,75% / 14,75%) + IVTM CV. Ley 38/1992. boe.es
A14: Estonie | B14: 623 | C14: 79 | D14: 0 | E14: =B14+C14*10+D14 -> 1413 | F14: 0 | G14: Validé | H14: Registreerimistasu 2024 + annuel (CO2 + poids). emta.ee
A15: Finlande | B15: 1124 | C15: 125 | D15: 20 | E15: =B15+C15*10+D15 -> 2394 | F15: 0 | G15: Validé | H15: Autovero (% du prix HT selon CO2) + ajoneuvovero. vero.fi
A16: Grèce | B16: 1257 | C16: 0 | D16: 87 | E16: =B16+C16*10+D16 -> 1344 | F16: 0 | G16: Validé | H16: Telos taxinomisis + teli kykloforias. aade.gr
... A27: Roumanie | B27: 0 | C27: 16 | D27: 18 | E27: =B27+C27*10+D27 -> 178 | F27: 28 | G27: Validé | H27: Aucune taxe immatriculation. Impozit auto cylindree. anaf.ro
A28: Rép. tchèque | B28: 0 | C28: 0 | D28: 33 | E28: =B28+C28*10+D28 -> 33 | F28: 62 | G28: Validé
A29: Slovaquie | B29: 17 | C29: 0 | D29: 62 | E29: =B29+C29*10+D29 -> 79 | F29: 90 | G29: Validé | H29: Registracna dan (kW). financnasprava.sk
A30: Slovénie | B30: 147 | C30: 62 | D30: 65 | E30: =B30+C30*10+D30 -> 832 | F30: 118 | G30: Validé | H30: DMV (CO2 + prix). fu.gov.si
A31: Suède | B31: 1410 | C31: 210 | D31: 66 | E31: =B31+C31*10+D31 -> 3576 | F31: 0 | G31: Validé | H31: Malus 3 premieres annees (CO2) + fordonsskatt. skatteverket.se
A33: Note : Total = Achat + Annuel × 10 + Frais. Vignette autoroute non incluse dans le total (colonne informative). Pays marqués 'Approx.' : formule simplifiée, à affiner avec barème régional officiel.

Sheet Détail Peugeot 208 PureTech 100
A1: Peugeot 208 PureTech 100 Style
A2: Segment : Citadine | Energie : ESSENCE Prix TTC : 17950 € | Prix HT : 14958 € | CO2 : 116 g/km | Cylindrée : 1199 cm³ | Puissance : 74 kW (100 ch) | CV fiscaux : 5 | Poids : 1090 kg | MOM : 1165 kg | Longueur : 405 cm
A4: Pays | B4: Taxe achat (€) | C4: Taxe annuelle (€) | D4: Frais immatriculation (€) | E4: Total 10 ans (€) | F4: Vignette annuelle (€) | G4: Statut | H4: Source
A5: France | B5: 230 | C5: 0 | D5: 359 | E5: =B5+C5*10+D5 -> 589 | F5: 0 | G5: Validé | H5: Code des impositions sur biens et services, art. L. 421-1 a L. 421-46. Barème 2026 CO2 108-191 g, poids 1500 kg, plafond 80 000 €. service-public.fr/particuliers/vosdroits/F10542
A6: Allemagne | B6: 0 | C6: 66 | D6: 30 | E6: =B6+C6*10+D6 -> 690 | F6: 0 | G6: Validé | H6: Kraftfahrt-Bundesamt (Kfz-Steuer), BMF. Base : cylindree + CO2. bundesfinanzministerium.de
A7: Autriche | B7: 398 | C7: 294 | D7: 200 | E7: =B7+C7*10+D7 -> 3538 | F7: 107 | G7: Validé | H7: NoVA 2026, Finanzministerium. motorbezogene Versicherungssteuer (kW + CO2). bmf.gv.at
A8: Belgique | B8: 149 | C8: 239 | D8: 30 | E8: =B8+C8*10+D8 -> 2569 | F8: 0 | G8: Approx. | H8: Region flamande (TMC + taxe annuelle). Formule approximee - a verifier pour autres regions. vlaanderen.be
A9: Bulgarie | B9: 513 | C9: 130 | D9: 25 | E9: =B9+C9*10+D9 -> 1838 | F9: 45 | G9: Validé | H9: Taxe acquisition 3% prix HT + taxe annuelle selon puissance. nap.bg
A10: Chypre | B10: 0 | C10: 54 | D10: 25 | E10: =B10+C10*10+D10 -> 565 | F10: 0 | G10: Validé | H10: Surcharge immatriculation progressive CO2. mof.gov.cy
A11: Croatie | B11: 897 | C11: 56 | D11: 15 | E11: =B11+C11*10+D11 -> 1472 | F11: 0 | G11: Approx. | H11: PPMV (posebni porez na motorna vozila). Formule approximee. porezna-uprava.hr
A12: Danemark | B12: 14621 | C12: 175 | D12: 180 | E12: =B12+C12*10+D12 -> 16551 | F12: 0 | G12: Validé | H12: Registreringsafgift 2026 (25% puis 85% puis 150%) + tillægsafgift CO2. skat.dk
A13: Espagne | B13: 0 | C13: 33 | D13: 130 | E13: =B13+C13*10+D13 -> 460 | F13: 0 | G13: Validé | H13: IEDMT (4,75% / 9,75% / 14,75%) + IVTM CV. Ley 38/1992. boe.es
A14: Estonie | B14: 530 | C14: 76 | D14: 0 | E14: =B14+C14*10+D14 -> 1290 | F14: 0 | G14: Validé | H14: Registreerimistasu 2024 + annuel (CO2 + poids). emta.ee
A15: Finlande | B15: 1107 | C15: 121 | D15: 20 | E15: =B15+C15*10+D15 -> 2337 | F15: 0 | G15: Validé | H15: Autovero (% du prix HT selon CO2) + ajoneuvovero. vero.fi
A16: Grèce | B16: 1346 | C16: 0 | D16: 87 | E16: =B16+C16*10+D16 -> 1433 | F16: 0 | G16: Validé | H16: Telos taxinomisis + teli kykloforias. aade.gr
... A27: Roumanie | B27: 0 | C27: 16 | D27: 18 | E27: =B27+C27*10+D27 -> 178 | F27: 28 | G27: Validé | H27: Aucune taxe immatriculation. Impozit auto cylindree. anaf.ro
A28: Rép. tchèque | B28: 0 | C28: 0 | D28: 33 | E28: =B28+C28*10+D28 -> 33 | F28: 62 | G28: Validé
A29: Slovaquie | B29: 17 | C29: 0 | D29: 62 | E29: =B29+C29*10+D29 -> 79 | F29: 90 | G29: Validé | H29: Registracna dan (kW). financnasprava.sk
A30: Slovénie | B30: 120 | C30: 62 | D30: 65 | E30: =B30+C30*10+D30 -> 805 | F30: 118 | G30: Validé | H30: DMV (CO2 + prix). fu.gov.si
A31: Suède | B31: 1230 | C31: 183 | D31: 66 | E31: =B31+C31*10+D31 -> 3126 | F31: 0 | G31: Validé | H31: Malus 3 premieres annees (CO2) + fordonsskatt. skatteverket.se
A33: Note : Total = Achat + Annuel × 10 + Frais. Vignette autoroute non incluse dans le total (colonne informative). Pays marqués 'Approx.' : formule simplifiée, à affiner avec barème régional officiel.

Sheet Détail Citroen C3 Aircross Turb
A1: Citroen C3 Aircross 1.2 Turbo 100 YOU
A2: Segment : SUV familial | Energie : ESSENCE Prix TTC : 19990 € | Prix HT : 16658 € | CO2 : 134 g/km | Cylindrée : 1199 cm³ | Puissance : 74 kW (100 ch) | CV fiscaux : 5 | Poids : 1298 kg | MOM : 1373 kg | Longueur : 439 cm
A4: Pays | B4: Taxe achat (€) | C4: Taxe annuelle (€) | D4: Frais immatriculation (€) | E4: Total 10 ans (€) | F4: Vignette annuelle (€) | G4: Statut | H4: Source
A5: France | B5: 1386 | C5: 0 | D5: 359 | E5: =B5+C5*10+D5 -> 1745 | F5: 0 | G5: Validé | H5: Code des impositions sur biens et services, art. L. 421-1 a L. 421-46. Barème 2026 CO2 108-191 g, poids 1500 kg, plafond 80 000 €. service-public.fr/particuliers/vosdroits/F10542
A6: Allemagne | B6: 0 | C6: 106 | D6: 30 | E6: =B6+C6*10+D6 -> 1090 | F6: 0 | G6: Validé | H6: Kraftfahrt-Bundesamt (Kfz-Steuer), BMF. Base : cylindree + CO2. bundesfinanzministerium.de
A7: Autriche | B7: 1083 | C7: 449 | D7: 200 | E7: =B7+C7*10+D7 -> 5773 | F7: 107 | G7: Validé | H7: NoVA 2026, Finanzministerium. motorbezogene Versicherungssteuer (kW + CO2). bmf.gv.at
A8: Belgique | B8: 880 | C8: 336 | D8: 30 | E8: =B8+C8*10+D8 -> 4270 | F8: 0 | G8: Approx. | H8: Region flamande (TMC + taxe annuelle). Formule approximee - a verifier pour autres regions. vlaanderen.be
A9: Bulgarie | B9: 564 | C9: 130 | D9: 25 | E9: =B9+C9*10+D9 -> 1889 | F9: 45 | G9: Validé | H9: Taxe acquisition 3% prix HT + taxe annuelle selon puissance. nap.bg
A10: Chypre | B10: 140 | C10: 172 | D10: 25 | E10: =B10+C10*10+D10 -> 1885 | F10: 0 | G10: Validé | H10: Surcharge immatriculation progressive CO2. mof.gov.cy
A11: Croatie | B11: 1816 | C11: 56 | D11: 15 | E11: =B11+C11*10+D11 -> 2391 | F11: 0 | G11: Approx. | H11: PPMV (posebni porez na motorna vozila). Formule approximee. porezna-uprava.hr
A12: Danemark | B12: 17849 | C12: 187 | D12: 180 | E12: =B12+C12*10+D12 -> 19899 | F12: 0 | G12: Validé | H12: Registreringsafgift 2026 (25% puis 85% puis 150%) + tillægsafgift CO2. skat.dk
A13: Espagne | B13: 791 | C13: 33 | D13: 130 | E13: =B13+C13*10+D13 -> 1251 | F13: 0 | G13: Validé | H13: IEDMT (4,75% / 9,75% / 14,75%) + IVTM CV. Ley 38/1992. boe.es
A14: Estonie | B14: 813 | C14: 84 | D14: 0 | E14: =B14+C14*10+D14 -> 1653 | F14: 0 | G14: Validé | H14: Registreerimistasu 2024 + annuel (CO2 + poids). emta.ee
A15: Finlande | B15: 1799 | C15: 134 | D15: 20 | E15: =B15+C15*10+D15 -> 3159 | F15: 0 | G15: Validé | H15: Autovero (% du prix HT selon CO2) + ajoneuvovero. vero.fi
A16: Grèce | B16: 1966 | C16: 72 | D16: 87 | E16: =B16+C16*10+D16 -> 2773 | F16: 0 | G16: Validé | H16: Telos taxinomisis + teli kykloforias. aade.gr
... A27: Roumanie | B27: 0 | C27: 16 | D27: 18 | E27: =B27+C27*10+D27 -> 178 | F27: 28 | G27: Validé | H27: Aucune taxe immatriculation. Impozit auto cylindree. anaf.ro
A28: Rép. tchèque | B28: 0 | C28: 0 | D28: 33 | E28: =B28+C28*10+D28 -> 33 | F28: 62 | G28: Validé
A29: Slovaquie | B29: 17 | C29: 0 | D29: 62 | E29: =B29+C29*10+D29 -> 79 | F29: 90 | G29: Validé | H29: Registracna dan (kW). financnasprava.sk
A30: Slovénie | B30: 383 | C30: 62 | D30: 65 | E30: =B30+C30*10+D30 -> 1068 | F30: 118 | G30: Validé | H30: DMV (CO2 + prix). fu.gov.si
A31: Suède | B31: 1824 | C31: 268 | D31: 66 | E31: =B31+C31*10+D31 -> 4570 | F31: 0 | G31: Validé | H31: Malus 3 premieres annees (CO2) + fordonsskatt. skatteverket.se
A33: Note : Total = Achat + Annuel × 10 + Frais. Vignette autoroute non incluse dans le total (colonne informative). Pays marqués 'Approx.' : formule simplifiée, à affiner avec barème régional officiel.

Sheet Détail Nissan Qashqai MHEV 140
A1: Nissan Qashqai MHEV 140 N-Connecta
A2: Segment : SUV | Energie : ESSENCE (MHEV) Prix TTC : 35000 € | Prix HT : 29167 € | CO2 : 144 g/km | Cylindrée : 1332 cm³ | Puissance : 103 kW (140 ch) | CV fiscaux : 7 | Poids : 1404 kg | MOM : 1479 kg | Longueur : 443 cm
A4: Pays | B4: Taxe achat (€) | C4: Taxe annuelle (€) | D4: Frais immatriculation (€) | E4: Total 10 ans (€) | F4: Vignette annuelle (€) | G4: Statut | H4: Source
A5: France | B5: 2918 | C5: 0 | D5: 497 | E5: =B5+C5*10+D5 -> 3415 | F5: 0 | G5: Validé | H5: Code des impositions sur biens et services, art. L. 421-1 a L. 421-46. Barème 2026 CO2 108-191 g, poids 1500 kg, plafond 80 000 €. service-public.fr/particuliers/vosdroits/F10542
A6: Allemagne | B6: 0 | C6: 135 | D6: 30 | E6: =B6+C6*10+D6 -> 1380 | F6: 0 | G6: Validé | H6: Kraftfahrt-Bundesamt (Kfz-Steuer), BMF. Base : cylindree + CO2. bundesfinanzministerium.de
A7: Autriche | B7: 2742 | C7: 786 | D7: 200 | E7: =B7+C7*10+D7 -> 10802 | F7: 107 | G7: Validé | H7: NoVA 2026, Finanzministerium. motorbezogene Versicherungssteuer (kW + CO2). bmf.gv.at
A8: Belgique | B8: 1175 | C8: 376 | D8: 30 | E8: =B8+C8*10+D8 -> 4965 | F8: 0 | G8: Approx. | H8: Region flamande (TMC + taxe annuelle). Formule approximee - a verifier pour autres regions. vlaanderen.be
A9: Bulgarie | B9: 939 | C9: 100 | D9: 25 | E9: =B9+C9*10+D9 -> 1964 | F9: 45 | G9: Validé | H9: Taxe acquisition 3% prix HT + taxe annuelle selon puissance. nap.bg
A10: Chypre | B10: 240 | C10: 252 | D10: 25 | E10: =B10+C10*10+D10 -> 2785 | F10: 0 | G10: Validé | H10: Surcharge immatriculation progressive CO2. mof.gov.cy
A11: Croatie | B11: 4375 | C11: 77 | D11: 15 | E11: =B11+C11*10+D11 -> 5160 | F11: 0 | G11: Approx. | H11: PPMV (posebni porez na motorna vozila). Formule approximee. porezna-uprava.hr
A12: Danemark | B12: 38510 | C12: 194 | D12: 180 | E12: =B12+C12*10+D12 -> 40630 | F12: 0 | G12: Validé | H12: Registreringsafgift 2026 (25% puis 85% puis 150%) + tillægsafgift CO2. skat.dk
A13: Espagne | B13: 1385 | C13: 65 | D13: 130 | E13: =B13+C13*10+D13 -> 2165 | F13: 0 | G13: Validé | H13: IEDMT (4,75% / 9,75% / 14,75%) + IVTM CV. Ley 38/1992. boe.es
A14: Estonie | B14: 969 | C14: 88 | D14: 0 | E14: =B14+C14*10+D14 -> 1849 | F14: 0 | G14: Validé | H14: Registreerimistasu 2024 + annuel (CO2 + poids). emta.ee
A15: Finlande | B15: 3850 | C15: 141 | D15: 20 | E15: =B15+C15*10+D15 -> 5280 | F15: 0 | G15: Validé | H15: Autovero (% du prix HT selon CO2) + ajoneuvovero. vero.fi
A16: Grèce | B16: 2304 | C16: 132 | D16: 87 | E16: =B16+C16*10+D16 -> 3711 | F16: 0 | G16: Validé | H16: Telos taxinomisis + teli kykloforias. aade.gr
... A27: Roumanie | B27: 0 | C27: 16 | D27: 18 | E27: =B27+C27*10+D27 -> 178 | F27: 28 | G27: Validé | H27: Aucune taxe immatriculation. Impozit auto cylindree. anaf.ro
A28: Rép. tchèque | B28: 0 | C28: 0 | D28: 33 | E28: =B28+C28*10+D28 -> 33 | F28: 62 | G28: Validé
A29: Slovaquie | B29: 309 | C29: 0 | D29: 62 | E29: =B29+C29*10+D29 -> 371 | F29: 90 | G29: Validé | H29: Registracna dan (kW). financnasprava.sk
A30: Slovénie | B30: 1003 | C30: 62 | D30: 65 | E30: =B30+C30*10+D30 -> 1688 | F30: 118 | G30: Validé | H30: DMV (CO2 + prix). fu.gov.si
A31: Suède | B31: 2184 | C31: 318 | D31: 66 | E31: =B31+C31*10+D31 -> 5430 | F31: 0 | G31: Validé | H31: Malus 3 premieres annees (CO2) + fordonsskatt. skatteverket.se
A33: Note : Total = Achat + Annuel × 10 + Frais. Vignette autoroute non incluse dans le total (colonne informative). Pays marqués 'Approx.' : formule simplifiée, à affiner avec barème régional officiel.

Sheet Détail VW T-Roc eTSI 150
A1: VW T-Roc 1.5 eTSI 150 R-Line
A2: Segment : SUV urbain | Energie : ESSENCE (MHEV) Prix TTC : 42500 € | Prix HT : 35417 € | CO2 : 128 g/km | Cylindrée : 1498 cm³ | Puissance : 110 kW (150 ch) | CV fiscaux : 8 | Poids : 1474 kg | MOM : 1549 kg | Longueur : 434 cm
A4: Pays | B4: Taxe achat (€) | C4: Taxe annuelle (€) | D4: Frais immatriculation (€) | E4: Total 10 ans (€) | F4: Vignette annuelle (€) | G4: Statut | H4: Source
A5: France | B5: 818 | C5: 0 | D5: 566 | E5: =B5+C5*10+D5 -> 1384 | F5: 0 | G5: Validé | H5: Code des impositions sur biens et services, art. L. 421-1 a L. 421-46. Barème 2026 CO2 108-191 g, poids 1500 kg, plafond 80 000 €. service-public.fr/particuliers/vosdroits/F10542
A6: Allemagne | B6: 0 | C6: 99 | D6: 30 | E6: =B6+C6*10+D6 -> 1020 | F6: 0 | G6: Validé | H6: Kraftfahrt-Bundesamt (Kfz-Steuer), BMF. Base : cylindree + CO2. bundesfinanzministerium.de
A7: Autriche | B7: 2271 | C7: 708 | D7: 200 | E7: =B7+C7*10+D7 -> 9551 | F7: 107 | G7: Validé | H7: NoVA 2026, Finanzministerium. motorbezogene Versicherungssteuer (kW + CO2). bmf.gv.at
A8: Belgique | B8: 970 | C8: 312 | D8: 30 | E8: =B8+C8*10+D8 -> 4120 | F8: 0 | G8: Approx. | H8: Region flamande (TMC + taxe annuelle). Formule approximee - a verifier pour autres regions. vlaanderen.be
A9: Bulgarie | B9: 1127 | C9: 100 | D9: 25 | E9: =B9+C9*10+D9 -> 2152 | F9: 45 | G9: Validé | H9: Taxe acquisition 3% prix HT + taxe annuelle selon puissance. nap.bg
A10: Chypre | B10: 80 | C10: 124 | D10: 25 | E10: =B10+C10*10+D10 -> 1345 | F10: 0 | G10: Validé | H10: Surcharge immatriculation progressive CO2. mof.gov.cy
A11: Croatie | B11: 3117 | C11: 83 | D11: 15 | E11: =B11+C11*10+D11 -> 3962 | F11: 0 | G11: Approx. | H11: PPMV (posebni porez na motorna vozila). Formule approximee. porezna-uprava.hr
A12: Danemark | B12: 48468 | C12: 183 | D12: 180 | E12: =B12+C12*10+D12 -> 50478 | F12: 0 | G12: Validé | H12: Registreringsafgift 2026 (25% puis 85% puis 150%) + tillægsafgift CO2. skat.dk
A13: Espagne | B13: 1682 | C13: 65 | D13: 130 | E13: =B13+C13*10+D13 -> 2462 | F13: 0 | G13: Validé | H13: IEDMT (4,75% / 9,75% / 14,75%) + IVTM CV. Ley 38/1992. boe.es
A14: Estonie | B14: 733 | C14: 81 | D14: 0 | E14: =B14+C14*10+D14 -> 1543 | F14: 0 | G14: Validé | H14: Registreerimistasu 2024 + annuel (CO2 + poids). emta.ee
A15: Finlande | B15: 3400 | C15: 130 | D15: 20 | E15: =B15+C15*10+D15 -> 4720 | F15: 0 | G15: Validé | H15: Autovero (% du prix HT selon CO2) + ajoneuvovero. vero.fi
A16: Grèce | B16: 2232 | C16: 36 | D16: 87 | E16: =B16+C16*10+D16 -> 2679 | F16: 0 | G16: Validé | H16: Telos taxinomisis + teli kykloforias. aade.gr
... A27: Roumanie | B27: 0 | C27: 16 | D27: 18 | E27: =B27+C27*10+D27 -> 178 | F27: 28 | G27: Validé | H27: Aucune taxe immatriculation. Impozit auto cylindree. anaf.ro
A28: Rép. tchèque | B28: 0 | C28: 0 | D28: 33 | E28: =B28+C28*10+D28 -> 33 | F28: 62 | G28: Validé
A29: Slovaquie | B29: 400 | C29: 0 | D29: 62 | E29: =B29+C29*10+D29 -> 462 | F29: 90 | G29: Validé | H29: Registracna dan (kW). financnasprava.sk
A30: Slovénie | B30: 397 | C30: 96 | D30: 65 | E30: =B30+C30*10+D30 -> 1422 | F30: 118 | G30: Validé | H30: DMV (CO2 + prix). fu.gov.si
A31: Suède | B31: 1608 | C31: 238 | D31: 66 | E31: =B31+C31*10+D31 -> 4054 | F31: 0 | G31: Validé | H31: Malus 3 premieres annees (CO2) + fordonsskatt. skatteverket.se
A33: Note : Total = Achat + Annuel × 10 + Frais. Vignette autoroute non incluse dans le total (colonne informative). Pays marqués 'Approx.' : formule simplifiée, à affiner avec barème régional officiel.

Sheet Détail Peugeot 308 SW BlueHDi 1
A1: Peugeot 308 SW BlueHDi 130 GT
A2: Segment : Break | Energie : DIESEL Prix TTC : 41350 € | Prix HT : 34458 € | CO2 : 129 g/km | Cylindrée : 1499 cm³ | Puissance : 96 kW (130 ch) | CV fiscaux : 7 | Poids : 1484 kg | MOM : 1559 kg | Longueur : 472 cm
A4: Pays | B4: Taxe achat (€) | C4: Taxe annuelle (€) | D4: Frais immatriculation (€) | E4: Total 10 ans (€) | F4: Vignette annuelle (€) | G4: Statut | H4: Source
A5: France | B5: 1498 | C5: 0 | D5: 497 | E5: =B5+C5*10+D5 -> 1995 | F5: 0 | G5: Validé | H5: Code des impositions sur biens et services, art. L. 421-1 a L. 421-46. Barème 2026 CO2 108-191 g, poids 1500 kg, plafond 80 000 €. service-public.fr/particuliers/vosdroits/F10542
A6: Allemagne | B6: 0 | C6: 213 | D6: 30 | E6: =B6+C6*10+D6 -> 2160 | F6: 0 | G6: Validé | H6: Kraftfahrt-Bundesamt (Kfz-Steuer), BMF. Base : cylindree + CO2. bundesfinanzministerium.de
A7: Autriche | B7: 2269 | C7: 596 | D7: 200 | E7: =B7+C7*10+D7 -> 8429 | F7: 107 | G7: Validé | H7: NoVA 2026, Finanzministerium. motorbezogene Versicherungssteuer (kW + CO2). bmf.gv.at
A8: Belgique | B8: 1052 | C8: 466 | D8: 30 | E8: =B8+C8*10+D8 -> 5742 | F8: 0 | G8: Approx. | H8: Region flamande (TMC + taxe annuelle). Formule approximee - a verifier pour autres regions. vlaanderen.be
A9: Bulgarie | B9: 1098 | C9: 200 | D9: 25 | E9: =B9+C9*10+D9 -> 3123 | F9: 45 | G9: Validé | H9: Taxe acquisition 3% prix HT + taxe annuelle selon puissance. nap.bg
A10: Chypre | B10: 90 | C10: 172 | D10: 25 | E10: =B10+C10*10+D10 -> 1835 | F10: 0 | G10: Validé | H10: Surcharge immatriculation progressive CO2. mof.gov.cy
A11: Croatie | B11: 3153 | C11: 72 | D11: 15 | E11: =B11+C11*10+D11 -> 3888 | F11: 0 | G11: Approx. | H11: PPMV (posebni porez na motorna vozila). Formule approximee. porezna-uprava.hr
A12: Danemark | B12: 46749 | C12: 313 | D12: 180 | E12: =B12+C12*10+D12 -> 50059 | F12: 0 | G12: Validé | H12: Registreringsafgift 2026 (25% puis 85% puis 150%) + tillægsafgift CO2. skat.dk
A13: Espagne | B13: 1637 | C13: 65 | D13: 130 | E13: =B13+C13*10+D13 -> 2417 | F13: 0 | G13: Validé | H13: IEDMT (4,75% / 9,75% / 14,75%) + IVTM CV. Ley 38/1992. boe.es
A14: Estonie | B14: 749 | C14: 272 | D14: 0 | E14: =B14+C14*10+D14 -> 3469 | F14: 0 | G14: Validé | H14: Registreerimistasu 2024 + annuel (CO2 + poids). emta.ee
A15: Finlande | B15: 3377 | C15: 322 | D15: 20 | E15: =B15+C15*10+D15 -> 6617 | F15: 0 | G15: Validé | H15: Autovero (% du prix HT selon CO2) + ajoneuvovero. vero.fi
A16: Grèce | B16: 5072 | C16: 46 | D16: 87 | E16: =B16+C16*10+D16 -> 5619 | F16: 0 | G16: Validé | H16: Telos taxinomisis + teli kykloforias. aade.gr
... A27: Roumanie | B27: 0 | C27: 16 | D27: 18 | E27: =B27+C27*10+D27 -> 178 | F27: 28 | G27: Validé | H27: Aucune taxe immatriculation. Impozit auto cylindree. anaf.ro
A28: Rép. tchèque | B28: 0 | C28: 0 | D28: 33 | E28: =B28+C28*10+D28 -> 33 | F28: 62 | G28: Validé
A29: Slovaquie | B29: 217 | C29: 0 | D29: 62 | E29: =B29+C29*10+D29 -> 279 | F29: 90 | G29: Validé | H29: Registracna dan (kW). financnasprava.sk
A30: Slovénie | B30: 600 | C30: 96 | D30: 65 | E30: =B30+C30*10+D30 -> 1625 | F30: 118 | G30: Validé | H30: DMV (CO2 + prix). fu.gov.si
A31: Suède | B31: 2265 | C31: 357 | D31: 66 | E31: =B31+C31*10+D31 -> 5901 | F31: 0 | G31: Validé | H31: Malus 3 premieres annees (CO2) + fordonsskatt. skatteverket.se
A33: Note : Total = Achat + Annuel × 10 + Frais. Vignette autoroute non incluse dans le total (colonne informative). Pays marqués 'Approx.' : formule simplifiée, à affiner avec barème régional officiel.

Sheet Détail Peugeot 5008 PHEV 225
A1: Peugeot 5008 PHEV 225 GT
A2: Segment : SUV familial 7pl | Energie : PHEV | Autonomie EV : 82 km Prix TTC : 46990 € | Prix HT : 39158 € | CO2 : 63 g/km | Cylindrée : 1598 cm³ | Puissance : 165 kW (225 ch) | CV fiscaux : 8 | Poids : 2048 kg | MOM : 2123 kg | Longueur : 490 cm
A4: Pays | B4: Taxe achat (€) | C4: Taxe annuelle (€) | D4: Frais immatriculation (€) | E4: Total 10 ans (€) | F4: Vignette annuelle (€) | G4: Statut | H4: Source
A5: France | B5: 6100 | C5: 0 | D5: 566 | E5: =B5+C5*10+D5 -> 6666 | F5: 0 | G5: Validé | H5: Code des impositions sur biens et services, art. L. 421-1 a L. 421-46. Barème 2026 CO2 108-191 g, poids 1500 kg, plafond 80 000 €. service-public.fr/particuliers/vosdroits/F10542
A6: Allemagne | B6: 0 | C6: 32 | D6: 30 | E6: =B6+C6*10+D6 -> 350 | F6: 0 | G6: Validé | H6: Kraftfahrt-Bundesamt (Kfz-Steuer), BMF. Base : cylindree + CO2. bundesfinanzministerium.de
A7: Autriche | B7: 0 | C7: 959 | D7: 200 | E7: =B7+C7*10+D7 -> 9790 | F7: 107 | G7: Validé | H7: NoVA 2026, Finanzministerium. motorbezogene Versicherungssteuer (kW + CO2). bmf.gv.at
A8: Belgique | B8: 825 | C8: 478 | D8: 30 | E8: =B8+C8*10+D8 -> 5635 | F8: 0 | G8: Approx. | H8: Region flamande (TMC + taxe annuelle). Formule approximee - a verifier pour autres regions. vlaanderen.be
A9: Bulgarie | B9: 1239 | C9: 125 | D9: 25 | E9: =B9+C9*10+D9 -> 2514 | F9: 45 | G9: Validé | H9: Taxe acquisition 3% prix HT + taxe annuelle selon puissance. nap.bg
A10: Chypre | B10: 0 | C10: 10 | D10: 25 | E10: =B10+C10*10+D10 -> 125 | F10: 0 | G10: Validé | H10: Surcharge immatriculation progressive CO2. mof.gov.cy
A11: Croatie | B11: 2349 | C11: 124 | D11: 15 | E11: =B11+C11*10+D11 -> 3604 | F11: 0 | G11: Approx. | H11: PPMV (posebni porez na motorna vozila). Formule approximee. porezna-uprava.hr
A12: Danemark | B12: 52107 | C12: 141 | D12: 180 | E12: =B12+C12*10+D12 -> 53697 | F12: 0 | G12: Validé | H12: Registreringsafgift 2026 (25% puis 85% puis 150%) + tillægsafgift CO2. skat.dk
A13: Espagne | B13: 0 | C13: 65 | D13: 130 | E13: =B13+C13*10+D13 -> 780 | F13: 0 | G13: Validé | H13: IEDMT (4,75% / 9,75% / 14,75%) + IVTM CV. Ley 38/1992. boe.es
A14: Estonie | B14: 273 | C14: 55 | D14: 0 | E14: =B14+C14*10+D14 -> 823 | F14: 0 | G14: Validé | H14: Registreerimistasu 2024 + annuel (CO2 + poids). emta.ee
A15: Finlande | B15: 1958 | C15: 84 | D15: 20 | E15: =B15+C15*10+D15 -> 2818 | F15: 0 | G15: Validé | H15: Autovero (% du prix HT selon CO2) + ajoneuvovero. vero.fi
A16: Grèce | B16: 2154 | C16: 0 | D16: 87 | E16: =B16+C16*10+D16 -> 2241 | F16: 0 | G16: Validé | H16: Telos taxinomisis + teli kykloforias. aade.gr
... A27: Roumanie | B27: 0 | C27: 16 | D27: 18 | E27: =B27+C27*10+D27 -> 178 | F27: 28 | G27: Validé | H27: Aucune taxe immatriculation. Impozit auto cylindree. anaf.ro
A28: Rép. tchèque | B28: 0 | C28: 0 | D28: 33 | E28: =B28+C28*10+D28 -> 33 | F28: 62 | G28: Validé
A29: Slovaquie | B29: 1280 | C29: 0 | D29: 62 | E29: =B29+C29*10+D29 -> 1342 | F29: 90 | G29: Validé | H29: Registracna dan (kW). financnasprava.sk
A30: Slovénie | B30: 0 | C30: 96 | D30: 65 | E30: =B30+C30*10+D30 -> 1025 | F30: 118 | G30: Validé | H30: DMV (CO2 + prix). fu.gov.si
A31: Suède | B31: 0 | C31: 23 | D31: 66 | E31: =B31+C31*10+D31 -> 296 | F31: 0 | G31: Validé | H31: Malus 3 premieres annees (CO2) + fordonsskatt. skatteverket.se
A33: Note : Total = Achat + Annuel × 10 + Frais. Vignette autoroute non incluse dans le total (colonne informative). Pays marqués 'Approx.' : formule simplifiée, à affiner avec barème régional officiel.

Sheet Détail VW Golf GTI 265
A1: VW Golf GTI 2.0 TSI 265ch
A2: Segment : Sportive | Energie : ESSENCE Prix TTC : 50700 € | Prix HT : 42250 € | CO2 : 162 g/km | Cylindrée : 1984 cm³ | Puissance : 195 kW (265 ch) | CV fiscaux : 16 | Poids : 1466 kg | MOM : 1541 kg | Longueur : 428 cm
A4: Pays | B4: Taxe achat (€) | C4: Taxe annuelle (€) | D4: Frais immatriculation (€) | E4: Total 10 ans (€) | F4: Vignette annuelle (€) | G4: Statut | H4: Source
A5: France | B5: 11112 | C5: 0 | D5: 1117 | E5: =B5+C5*10+D5 -> 12229 | F5: 0 | G5: Validé | H5: Code des impositions sur biens et services, art. L. 421-1 a L. 421-46. Barème 2026 CO2 108-191 g, poids 1500 kg, plafond 80 000 €. service-public.fr/particuliers/vosdroits/F10542
A6: Allemagne | B6: 0 | C6: 194 | D6: 30 | E6: =B6+C6*10+D6 -> 1970 | F6: 0 | G6: Validé | H6: Kraftfahrt-Bundesamt (Kfz-Steuer), BMF. Base : cylindree + CO2. bundesfinanzministerium.de
A7: Autriche | B7: 6210 | C7: 1737 | D7: 200 | E7: =B7+C7*10+D7 -> 23780 | F7: 107 | G7: Validé | H7: NoVA 2026, Finanzministerium. motorbezogene Versicherungssteuer (kW + CO2). bmf.gv.at
A8: Belgique | B8: 1905 | C8: 682 | D8: 30 | E8: =B8+C8*10+D8 -> 8755 | F8: 0 | G8: Approx. | H8: Region flamande (TMC + taxe annuelle). Formule approximee - a verifier pour autres regions. vlaanderen.be
A9: Bulgarie | B9: 1332 | C9: 250 | D9: 25 | E9: =B9+C9*10+D9 -> 3857 | F9: 45 | G9: Validé | H9: Taxe acquisition 3% prix HT + taxe annuelle selon puissance. nap.bg
A10: Chypre | B10: 480 | C10: 420 | D10: 25 | E10: =B10+C10*10+D10 -> 4705 | F10: 0 | G10: Validé | H10: Surcharge immatriculation progressive CO2. mof.gov.cy
A11: Croatie | B11: 10140 | C11: 146 | D11: 15 | E11: =B11+C11*10+D11 -> 11615 | F11: 0 | G11: Approx. | H11: PPMV (posebni porez na motorna vozila). Formule approximee. porezna-uprava.hr
A12: Danemark | B12: 65741 | C12: 205 | D12: 180 | E12: =B12+C12*10+D12 -> 67971 | F12: 0 | G12: Validé | H12: Registreringsafgift 2026 (25% puis 85% puis 150%) + tillægsafgift CO2. skat.dk
A13: Espagne | B13: 4119 | C13: 140 | D13: 130 | E13: =B13+C13*10+D13 -> 5649 | F13: 0 | G13: Validé | H13: IEDMT (4,75% / 9,75% / 14,75%) + IVTM CV. Ley 38/1992. boe.es
A14: Estonie | B14: 1243 | C14: 95 | D14: 0 | E14: =B14+C14*10+D14 -> 2193 | F14: 0 | G14: Validé | H14: Registreerimistasu 2024 + annuel (CO2 + poids). emta.ee
A15: Finlande | B15: 8028 | C15: 153 | D15: 20 | E15: =B15+C15*10+D15 -> 9578 | F15: 0 | G15: Validé | H15: Autovero (% du prix HT selon CO2) + ajoneuvovero. vero.fi
A16: Grèce | B16: 9614 | C16: 240 | D16: 87 | E16: =B16+C16*10+D16 -> 12101 | F16: 0 | G16: Validé | H16: Telos taxinomisis + teli kykloforias. aade.gr
... A27: Roumanie | B27: 0 | C27: 40 | D27: 18 | E27: =B27+C27*10+D27 -> 418 | F27: 28 | G27: Validé | H27: Aucune taxe immatriculation. Impozit auto cylindree. anaf.ro
A28: Rép. tchèque | B28: 0 | C28: 0 | D28: 33 | E28: =B28+C28*10+D28 -> 33 | F28: 62 | G28: Validé
A29: Slovaquie | B29: 1880 | C29: 0 | D29: 62 | E29: =B29+C29*10+D29 -> 1942 | F29: 90 | G29: Validé | H29: Registracna dan (kW). financnasprava.sk
A30: Slovénie | B30: 5102 | C30: 153 | D30: 65 | E30: =B30+C30*10+D30 -> 6697 | F30: 118 | G30: Validé | H30: DMV (CO2 + prix). fu.gov.si
A31: Suède | B31: 2832 | C31: 408 | D31: 66 | E31: =B31+C31*10+D31 -> 6978 | F31: 0 | G31: Validé | H31: Malus 3 premieres annees (CO2) + fordonsskatt. skatteverket.se
A33: Note : Total = Achat + Annuel × 10 + Frais. Vignette autoroute non incluse dans le total (colonne informative). Pays marqués 'Approx.' : formule simplifiée, à affiner avec barème régional officiel.

Sheet Détail BMW X5 xDrive 30d 298
A1: BMW X5 xDrive 30d 298 xLine
A2: Segment : SUV premium | Energie : DIESEL (MHEV) Prix TTC : 92350 € | Prix HT : 76958 € | CO2 : 189 g/km | Cylindrée : 2993 cm³ | Puissance : 219 kW (298 ch) | CV fiscaux : 18 | Poids : 2220 kg | MOM : 2295 kg | Longueur : 493 cm
A4: Pays | B4: Taxe achat (€) | C4: Taxe annuelle (€) | D4: Frais immatriculation (€) | E4: Total 10 ans (€) | F4: Vignette annuelle (€) | G4: Statut | H4: Source
A5: France | B5: 80000 | C5: 0 | D5: 1255 | E5: =B5+C5*10+D5 -> 81255 | F5: 0 | G5: Validé | H5: Code des impositions sur biens et services, art. L. 421-1 a L. 421-46. Barème 2026 CO2 108-191 g, poids 1500 kg, plafond 80 000 €. service-public.fr/particuliers/vosdroits/F10542
A6: Allemagne | B6: 0 | C6: 525 | D6: 30 | E6: =B6+C6*10+D6 -> 5280 | F6: 0 | G6: Validé | H6: Kraftfahrt-Bundesamt (Kfz-Steuer), BMF. Base : cylindree + CO2. bundesfinanzministerium.de
A7: Autriche | B7: 17454 | C7: 2177 | D7: 200 | E7: =B7+C7*10+D7 -> 39424 | F7: 107 | G7: Validé | H7: NoVA 2026, Finanzministerium. motorbezogene Versicherungssteuer (kW + CO2). bmf.gv.at
A8: Belgique | B8: 3634 | C8: 969 | D8: 30 | E8: =B8+C8*10+D8 -> 13354 | F8: 0 | G8: Approx. | H8: Region flamande (TMC + taxe annuelle). Formule approximee - a verifier pour autres regions. vlaanderen.be
A9: Bulgarie | B9: 2373 | C9: 150 | D9: 25 | E9: =B9+C9*10+D9 -> 3898 | F9: 45 | G9: Validé | H9: Taxe acquisition 3% prix HT + taxe annuelle selon puissance. nap.bg
A10: Chypre | B10: 885 | C10: 897 | D10: 25 | E10: =B10+C10*10+D10 -> 9880 | F10: 0 | G10: Validé | H10: Surcharge immatriculation progressive CO2. mof.gov.cy
A11: Croatie | B11: 27474 | C11: 164 | D11: 15 | E11: =B11+C11*10+D11 -> 29129 | F11: 0 | G11: Approx. | H11: PPMV (posebni porez na motorna vozila). Formule approximee. porezna-uprava.hr
A12: Danemark | B12: 134868 | C12: 1003 | D12: 180 | E12: =B12+C12*10+D12 -> 145078 | F12: 0 | G12: Validé | H12: Registreringsafgift 2026 (25% puis 85% puis 150%) + tillægsafgift CO2. skat.dk
A13: Espagne | B13: 7503 | C13: 200 | D13: 130 | E13: =B13+C13*10+D13 -> 9633 | F13: 0 | G13: Validé | H13: IEDMT (4,75% / 9,75% / 14,75%) + IVTM CV. Ley 38/1992. boe.es
A14: Estonie | B14: 1693 | C14: 399 | D14: 0 | E14: =B14+C14*10+D14 -> 5683 | F14: 0 | G14: Validé | H14: Registreerimistasu 2024 + annuel (CO2 + poids). emta.ee
A15: Finlande | B15: 25011 | C15: 466 | D15: 20 | E15: =B15+C15*10+D15 -> 29691 | F15: 0 | G15: Validé | H15: Autovero (% du prix HT selon CO2) + ajoneuvovero. vero.fi
A16: Grèce | B16: 14372 | C16: 442 | D16: 87 | E16: =B16+C16*10+D16 -> 18879 | F16: 0 | G16: Validé | H16: Telos taxinomisis + teli kykloforias. aade.gr
... A27: Roumanie | B27: 0 | C27: 120 | D27: 18 | E27: =B27+C27*10+D27 -> 1218 | F27: 28 | G27: Validé | H27: Aucune taxe immatriculation. Impozit auto cylindree. anaf.ro
A28: Rép. tchèque | B28: 0 | C28: 0 | D28: 33 | E28: =B28+C28*10+D28 -> 33 | F28: 62 | G28: Validé
A29: Slovaquie | B29: 2360 | C29: 0 | D29: 62 | E29: =B29+C29*10+D29 -> 2422 | F29: 90 | G29: Validé | H29: Registracna dan (kW). financnasprava.sk
A30: Slovénie | B30: 17539 | C30: 205 | D30: 65 | E30: =B30+C30*10+D30 -> 19654 | F30: 118 | G30: Validé | H30: DMV (CO2 + prix). fu.gov.si
A31: Suède | B31: 4650 | C31: 711 | D31: 66 | E31: =B31+C31*10+D31 -> 11826 | F31: 0 | G31: Validé | H31: Malus 3 premieres annees (CO2) + fordonsskatt. skatteverket.se
A33: Note : Total = Achat + Annuel × 10 + Frais. Vignette autoroute non incluse dans le total (colonne informative). Pays marqués 'Approx.' : formule simplifiée, à affiner avec barème régional officiel.

Sheet Détail Ford Mustang V8 GT 446
A1: Ford Mustang V8 GT 446ch BVM6
A2: Segment : Muscle car | Energie : ESSENCE Prix TTC : 59800 € | Prix HT : 49833 € | CO2 : 274 g/km | Cylindrée : 5038 cm³ | Puissance : 328 kW (446 ch) | CV fiscaux : 30 | Poids : 1761 kg | MOM : 1836 kg | Longueur : 480 cm
A4: Pays | B4: Taxe achat (€) | C4: Taxe annuelle (€) | D4: Frais immatriculation (€) | E4: Total 10 ans (€) | F4: Vignette annuelle (€) | G4: Statut | H4: Source
A5: France | B5: 80000 | C5: 0 | D5: 2083 | E5: =B5+C5*10+D5 -> 82083 | F5: 0 | G5: Validé | H5: Code des impositions sur biens et services, art. L. 421-1 a L. 421-46. Barème 2026 CO2 108-191 g, poids 1500 kg, plafond 80 000 €. service-public.fr/particuliers/vosdroits/F10542
A6: Allemagne | B6: 0 | C6: 678 | D6: 30 | E6: =B6+C6*10+D6 -> 6810 | F6: 0 | G6: Validé | H6: Kraftfahrt-Bundesamt (Kfz-Steuer), BMF. Base : cylindree + CO2. bundesfinanzministerium.de
A7: Autriche | B7: 27409 | C7: 3853 | D7: 200 | E7: =B7+C7*10+D7 -> 66139 | F7: 107 | G7: Validé | H7: NoVA 2026, Finanzministerium. motorbezogene Versicherungssteuer (kW + CO2). bmf.gv.at
A8: Belgique | B8: 4250 | C8: 1290 | D8: 30 | E8: =B8+C8*10+D8 -> 17180 | F8: 0 | G8: Approx. | H8: Region flamande (TMC + taxe annuelle). Formule approximee - a verifier pour autres regions. vlaanderen.be
A9: Bulgarie | B9: 1559 | C9: 300 | D9: 25 | E9: =B9+C9*10+D9 -> 4584 | F9: 45 | G9: Validé | H9: Taxe acquisition 3% prix HT + taxe annuelle selon puissance. nap.bg
A10: Chypre | B10: 2480 | C10: 1318 | D10: 25 | E10: =B10+C10*10+D10 -> 15685 | F10: 0 | G10: Validé | H10: Surcharge immatriculation progressive CO2. mof.gov.cy
A11: Croatie | B11: 30498 | C11: 246 | D11: 15 | E11: =B11+C11*10+D11 -> 32973 | F11: 0 | G11: Approx. | H11: PPMV (posebni porez na motorna vozila). Formule approximee. porezna-uprava.hr
A12: Danemark | B12: 96759 | C12: 278 | D12: 180 | E12: =B12+C12*10+D12 -> 99719 | F12: 0 | G12: Validé | H12: Registreringsafgift 2026 (25% puis 85% puis 150%) + tillægsafgift CO2. skat.dk
A13: Espagne | B13: 7350 | C13: 200 | D13: 130 | E13: =B13+C13*10+D13 -> 9480 | F13: 0 | G13: Validé | H13: IEDMT (4,75% / 9,75% / 14,75%) + IVTM CV. Ley 38/1992. boe.es
A14: Estonie | B14: 2941 | C14: 140 | D14: 0 | E14: =B14+C14*10+D14 -> 4341 | F14: 0 | G14: Validé | H14: Registreerimistasu 2024 + annuel (CO2 + poids). emta.ee
A15: Finlande | B15: 24917 | C15: 232 | D15: 20 | E15: =B15+C15*10+D15 -> 27257 | F15: 0 | G15: Validé | H15: Autovero (% du prix HT selon CO2) + ajoneuvovero. vero.fi
A16: Grèce | B16: 24919 | C16: 912 | D16: 87 | E16: =B16+C16*10+D16 -> 34126 | F16: 0 | G16: Validé | H16: Telos taxinomisis + teli kykloforias. aade.gr
... A27: Roumanie | B27: 0 | C27: 180 | D27: 18 | E27: =B27+C27*10+D27 -> 1818 | F27: 28 | G27: Validé | H27: Aucune taxe immatriculation. Impozit auto cylindree. anaf.ro
A28: Rép. tchèque | B28: 0 | C28: 0 | D28: 33 | E28: =B28+C28*10+D28 -> 33 | F28: 62 | G28: Validé
A29: Slovaquie | B29: 4540 | C29: 0 | D29: 62 | E29: =B29+C29*10+D29 -> 4602 | F29: 90 | G29: Validé | H29: Registracna dan (kW). financnasprava.sk
A30: Slovénie | B30: 31170 | C30: 205 | D30: 65 | E30: =B30+C30*10+D30 -> 33285 | F30: 118 | G30: Validé | H30: DMV (CO2 + prix). fu.gov.si
A31: Suède | B31: 6864 | C31: 970 | D31: 66 | E31: =B31+C31*10+D31 -> 16630 | F31: 0 | G31: Validé | H31: Malus 3 premieres annees (CO2) + fordonsskatt. skatteverket.se
A33: Note : Total = Achat + Annuel × 10 + Frais. Vignette autoroute non incluse dans le total (colonne informative). Pays marqués 'Approx.' : formule simplifiée, à affiner avec barème régional officiel.

Sheet Détail Porsche 911 GT3 RS 525
A1: Porsche 911 GT3 RS 4.0 PDK
A2: Segment : Supercar | Energie : ESSENCE Prix TTC : 253370 € | Prix HT : 211142 € | CO2 : 310 g/km | Cylindrée : 3996 cm³ | Puissance : 386 kW (525 ch) | CV fiscaux : 43 | Poids : 1450 kg | MOM : 1525 kg | Longueur : 458 cm
A4: Pays | B4: Taxe achat (€) | C4: Taxe annuelle (€) | D4: Frais immatriculation (€) | E4: Total 10 ans (€) | F4: Vignette annuelle (€) | G4: Statut | H4: Source
A5: France | B5: 80000 | C5: 0 | D5: 2979 | E5: =B5+C5*10+D5 -> 82979 | F5: 0 | G5: Validé | H5: Code des impositions sur biens et services, art. L. 421-1 a L. 421-46. Barème 2026 CO2 108-191 g, poids 1500 kg, plafond 80 000 €. service-public.fr/particuliers/vosdroits/F10542
A6: Allemagne | B6: 0 | C6: 800 | D6: 30 | E6: =B6+C6*10+D6 -> 8030 | F6: 0 | G6: Validé | H6: Kraftfahrt-Bundesamt (Kfz-Steuer), BMF. Base : cylindree + CO2. bundesfinanzministerium.de
A7: Autriche | B7: 104530 | C7: 4666 | D7: 200 | E7: =B7+C7*10+D7 -> 151390 | F7: 107 | G7: Validé | H7: NoVA 2026, Finanzministerium. motorbezogene Versicherungssteuer (kW + CO2). bmf.gv.at
A8: Belgique | B8: 5080 | C8: 1503 | D8: 30 | E8: =B8+C8*10+D8 -> 20140 | F8: 0 | G8: Approx. | H8: Region flamande (TMC + taxe annuelle). Formule approximee - a verifier pour autres regions. vlaanderen.be
A9: Bulgarie | B9: 6398 | C9: 300 | D9: 25 | E9: =B9+C9*10+D9 -> 9423 | F9: 45 | G9: Validé | H9: Taxe acquisition 3% prix HT + taxe annuelle selon puissance. nap.bg
A10: Chypre | B10: 3200 | C10: 1500 | D10: 25 | E10: =B10+C10*10+D10 -> 18225 | F10: 0 | G10: Validé | H10: Surcharge immatriculation progressive CO2. mof.gov.cy
A11: Croatie | B11: 152022 | C11: 290 | D11: 15 | E11: =B11+C11*10+D11 -> 154937 | F11: 0 | G11: Approx. | H11: PPMV (posebni porez na motorna vozila). Formule approximee. porezna-uprava.hr
A12: Danemark | B12: 404613 | C12: 302 | D12: 180 | E12: =B12+C12*10+D12 -> 407813 | F12: 0 | G12: Validé | H12: Registreringsafgift 2026 (25% puis 85% puis 150%) + tillægsafgift CO2. skat.dk
A13: Espagne | B13: 31143 | C13: 200 | D13: 130 | E13: =B13+C13*10+D13 -> 33273 | F13: 0 | G13: Validé | H13: IEDMT (4,75% / 9,75% / 14,75%) + IVTM CV. Ley 38/1992. boe.es
A14: Estonie | B14: 3462 | C14: 154 | D14: 0 | E14: =B14+C14*10+D14 -> 5002 | F14: 0 | G14: Validé | H14: Registreerimistasu 2024 + annuel (CO2 + poids). emta.ee
A15: Finlande | B15: 105571 | C15: 257 | D15: 20 | E15: =B15+C15*10+D15 -> 108161 | F15: 0 | G15: Validé | H15: Autovero (% du prix HT selon CO2) + ajoneuvovero. vero.fi
A16: Grèce | B16: 106171 | C16: 1128 | D16: 87 | E16: =B16+C16*10+D16 -> 117538 | F16: 0 | G16: Validé | H16: Telos taxinomisis + teli kykloforias. aade.gr
... A27: Roumanie | B27: 0 | C27: 180 | D27: 18 | E27: =B27+C27*10+D27 -> 1818 | F27: 28 | G27: Validé | H27: Aucune taxe immatriculation. Impozit auto cylindree. anaf.ro
A28: Rép. tchèque | B28: 0 | C28: 0 | D28: 33 | E28: =B28+C28*10+D28 -> 33 | F28: 62 | G28: Validé
A29: Slovaquie | B29: 5700 | C29: 0 | D29: 62 | E29: =B29+C29*10+D29 -> 5762 | F29: 90 | G29: Validé | H29: Registracna dan (kW). financnasprava.sk
A30: Slovénie | B30: 133818 | C30: 205 | D30: 65 | E30: =B30+C30*10+D30 -> 135933 | F30: 118 | G30: Validé | H30: DMV (CO2 + prix). fu.gov.si
A31: Suède | B31: 8160 | C31: 1150 | D31: 66 | E31: =B31+C31*10+D31 -> 19726 | F31: 0 | G31: Validé | H31: Malus 3 premieres annees (CO2) + fordonsskatt. skatteverket.se
A33: Note : Total = Achat + Annuel × 10 + Frais. Vignette autoroute non incluse dans le total (colonne informative). Pays marqués 'Approx.' : formule simplifiée, à affiner avec barème régional officiel.

Sheet Détail Tesla Model 3 Standard
A1: Tesla Model 3 Standard
A2: Segment : Berline VE | Energie : ELECTRIQUE Prix TTC : 36990 € | Prix HT : 30825 € | CO2 : 0 g/km | Cylindrée : 0 cm³ | Puissance : 208 kW (283 ch) | CV fiscaux : 0 | Poids : 1772 kg | MOM : 1847 kg | Longueur : 469 cm
A4: Pays | B4: Taxe achat (€) | C4: Taxe annuelle (€) | D4: Frais immatriculation (€) | E4: Total 10 ans (€) | F4: Vignette annuelle (€) | G4: Statut | H4: Source
A5: France | B5: 0 | C5: 0 | D5: 14 | E5: =B5+C5*10+D5 -> 14 | F5: 0 | G5: Validé | H5: Code des impositions sur biens et services, art. L. 421-1 a L. 421-46. Barème 2026 CO2 108-191 g, poids 1500 kg, plafond 80 000 €. service-public.fr/particuliers/vosdroits/F10542
A6: Allemagne | B6: 0 | C6: 0 | D6: 30 | E6: =B6+C6*10+D6 -> 30 | F6: 0 | G6: Validé | H6: Kraftfahrt-Bundesamt (Kfz-Steuer), BMF. Base : cylindree + CO2. bundesfinanzministerium.de
A7: Autriche | B7: 0 | C7: 597 | D7: 200 | E7: =B7+C7*10+D7 -> 6170 | F7: 107 | G7: Validé | H7: NoVA 2026, Finanzministerium. motorbezogene Versicherungssteuer (kW + CO2). bmf.gv.at
A8: Belgique | B8: 62 | C8: 87 | D8: 30 | E8: =B8+C8*10+D8 -> 962 | F8: 0 | G8: Approx. | H8: Region flamande (TMC + taxe annuelle). Formule approximee - a verifier pour autres regions. vlaanderen.be
A9: Bulgarie | B9: 52 | C9: 0 | D9: 25 | E9: =B9+C9*10+D9 -> 77 | F9: 45 | G9: Validé | H9: Taxe acquisition 3% prix HT + taxe annuelle selon puissance. nap.bg
A10: Chypre | B10: 0 | C10: 0 | D10: 25 | E10: =B10+C10*10+D10 -> 25 | F10: 0 | G10: Validé | H10: Surcharge immatriculation progressive CO2. mof.gov.cy
A11: Croatie | B11: 0 | C11: 0 | D11: 0 | E11: =B11+C11*10+D11 -> 0 | F11: 0 | G11: Approx. | H11: PPMV (posebni porez na motorna vozila). Formule approximee. porezna-uprava.hr
A12: Danemark | B12: 6533 | C12: 123 | D12: 180 | E12: =B12+C12*10+D12 -> 7943 | F12: 0 | G12: Validé | H12: Registreringsafgift 2026 (25% puis 85% puis 150%) + tillægsafgift CO2. skat.dk
A13: Espagne | B13: 0 | C13: 6 | D13: 130 | E13: =B13+C13*10+D13 -> 190 | F13: 0 | G13: Validé | H13: IEDMT (4,75% / 9,75% / 14,75%) + IVTM CV. Ley 38/1992. boe.es
A14: Estonie | B14: 504 | C14: 50 | D14: 0 | E14: =B14+C14*10+D14 -> 1004 | F14: 0 | G14: Validé | H14: Registreerimistasu 2024 + annuel (CO2 + poids). emta.ee
A15: Finlande | B15: 0 | C15: 228 | D15: 20 | E15: =B15+C15*10+D15 -> 2300 | F15: 0 | G15: Validé | H15: Autovero (% du prix HT selon CO2) + ajoneuvovero. vero.fi
